BEGIN:VCALENDAR
VERSION:2.0
PRODID:-//SCALL - ECPv6.15.11//NONSGML v1.0//EN
CALSCALE:GREGORIAN
METHOD:PUBLISH
X-ORIGINAL-URL:https://scallnet.org
X-WR-CALDESC:Events for SCALL
REFRESH-INTERVAL;VALUE=DURATION:PT1H
X-Robots-Tag:noindex
X-PUBLISHED-TTL:PT1H
BEGIN:VTIMEZONE
TZID:America/Los_Angeles
BEGIN:DAYLIGHT
TZOFFSETFROM:-0800
TZOFFSETTO:-0700
TZNAME:PDT
DTSTART:20220313T100000
END:DAYLIGHT
BEGIN:STANDARD
TZOFFSETFROM:-0700
TZOFFSETTO:-0800
TZNAME:PST
DTSTART:20221106T090000
END:STANDARD
BEGIN:DAYLIGHT
TZOFFSETFROM:-0800
TZOFFSETTO:-0700
TZNAME:PDT
DTSTART:20230312T100000
END:DAYLIGHT
BEGIN:STANDARD
TZOFFSETFROM:-0700
TZOFFSETTO:-0800
TZNAME:PST
DTSTART:20231105T090000
END:STANDARD
BEGIN:DAYLIGHT
TZOFFSETFROM:-0800
TZOFFSETTO:-0700
TZNAME:PDT
DTSTART:20240310T100000
END:DAYLIGHT
BEGIN:STANDARD
TZOFFSETFROM:-0700
TZOFFSETTO:-0800
TZNAME:PST
DTSTART:20241103T090000
END:STANDARD
BEGIN:DAYLIGHT
TZOFFSETFROM:-0800
TZOFFSETTO:-0700
TZNAME:PDT
DTSTART:20250309T100000
END:DAYLIGHT
BEGIN:STANDARD
TZOFFSETFROM:-0700
TZOFFSETTO:-0800
TZNAME:PST
DTSTART:20251102T090000
END:STANDARD
BEGIN:DAYLIGHT
TZOFFSETFROM:-0800
TZOFFSETTO:-0700
TZNAME:PDT
DTSTART:20260308T100000
END:DAYLIGHT
BEGIN:STANDARD
TZOFFSETFROM:-0700
TZOFFSETTO:-0800
TZNAME:PST
DTSTART:20261101T090000
END:STANDARD
END:VTIMEZONE
BEGIN:VEVENT
DTSTART;TZID=America/Los_Angeles:20250111T110000
DTEND;TZID=America/Los_Angeles:20250111T150000
DTSTAMP:20260424T183406
CREATED:20241211T222837Z
LAST-MODIFIED:20241211T222927Z
UID:5063-1736593200-1736607600@scallnet.org
SUMMARY:SCALL Post-Holiday Party
DESCRIPTION:Date: Saturday\, January 11\, 2025 \nTime: 11 a.m. – 3 p.m. \nEl Portal \n695 E. Green St. \nPasadena\, CA 91101 \nhttps://www.elportalrestaurant.com/ \nSome free street parking may be available; paid parking in nearby lots is also available. \nCost: \n$40 for SCALL Members \n$50 for Nonmembers \nPlease join us for a taco bar lunch! \nNo Host Bar: alcoholic beverages will be available for purchase separately \nSpace is limited register through Wild Apricot by Wednesday\, January 8. \nPlease note that each registration only allows for one registrant at the member rate.  If multiple SCALL members are attending together\, please submit a separate registration for each member. \nFor questions\, please contact: Julianne Odin (jodin@sandiego.edu) or Serena Thomas (serena.thomas@cornerstone.com).
URL:https://scallnet.org/event/scall-post-holiday-party/
LOCATION:El Portal\, 695 E. Green St.\, Pasadena\, CA\, 91101\, United States
CATEGORIES:SCALL Socials
ATTACH;FMTTYPE=image/png:https://scallnet.org/wp-content/uploads/2024/12/el-portal-restaurant.png
END:VEVENT
BEGIN:VEVENT
DTSTART;TZID=America/Los_Angeles:20231201T183000
DTEND;TZID=America/Los_Angeles:20231201T203000
DTSTAMP:20260424T183406
CREATED:20231009T163439Z
LAST-MODIFIED:20231017T233526Z
UID:4556-1701455400-1701462600@scallnet.org
SUMMARY:DTLA Fall SCALL Social
DESCRIPTION:Members of the Programs committee are hosting an informal happy hour social for all of those in the downtown Los Angeles area! The event will take place Friday\, December 1\, 2023 at 6:30pm at the Library Bar. The address is 630 W. 6th Street\, Suite 116 A\, Los Angeles\, CA 90017. Join in for an evening of connection and fun! \nFor questions feel free to email serena.thomas@cornerstone.com.
URL:https://scallnet.org/event/dtla-fall-scall-social/
LOCATION:Library Bar\, 630 W. 6th Street\, Suite 116A\, Los Angeles\, CA\, 90017\, United States
CATEGORIES:SCALL Socials
ATTACH;FMTTYPE=image/jpeg:https://scallnet.org/wp-content/uploads/2023/10/SCALL-DTLA-Meet-Up-Dec-2023.jpg
END:VEVENT
END:VCALENDAR