BEGIN:VCALENDAR
VERSION:2.0
PRODID:-//SCALL - ECPv6.15.11//NONSGML v1.0//EN
CALSCALE:GREGORIAN
METHOD:PUBLISH
X-WR-CALNAME:SCALL
X-ORIGINAL-URL:https://scallnet.org
X-WR-CALDESC:Events for SCALL
REFRESH-INTERVAL;VALUE=DURATION:PT1H
X-Robots-Tag:noindex
X-PUBLISHED-TTL:PT1H
BEGIN:VTIMEZONE
TZID:UTC
BEGIN:STANDARD
TZOFFSETFROM:+0000
TZOFFSETTO:+0000
TZNAME:UTC
DTSTART:20150101T000000
END:STANDARD
END:VTIMEZONE
BEGIN:VTIMEZONE
TZID:Asia/Krasnoyarsk
BEGIN:STANDARD
TZOFFSETFROM:+0700
TZOFFSETTO:+0700
TZNAME:+07
DTSTART:20160101T000000
END:STANDARD
END:VTIMEZONE
BEGIN:VEVENT
DTSTART;TZID=UTC:20180411T180000
DTEND;TZID=UTC:20180411T200000
DTSTAMP:20260424T170437
CREATED:20180303T041653Z
LAST-MODIFIED:20180404T065105Z
UID:1720-1523469600-1523476800@scallnet.org
SUMMARY:2018 SCALL Spring Meeting
DESCRIPTION:David Nimmer\nProfessor Nimmer will discuss the history of fair use and fair use today. \nDavid Nimmer is Of Counsel to Irell & Manella LLP. He also serves as Professor from Practice at UCLA School of Law\, Distinguished Scholar at the Berkeley Center for Law and Technology\, and as an elected member of the American Law Institute. Since 1985\, Professor Nimmer has authored and updated Nimmer on Copyright\, the standard reference treatise in the field\, routinely cited by domestic and foreign courts at all levels\, first published in 1963 by his late father\, Professor Melville B. Nimmer. \nWidely recognized as a foremost expert in copyright law\, Professor Nimmer represents clients in the entertainment\, publishing and high-technology fields. He has twice served as co-counsel for clients before the U.S. Supreme Court\, and he has given congressional testimony on several occasions. Professor Nimmer was named one of “The 25 Most Influential People in IP” by The American Lawyer. He attended Stanford University and Yale Law School. \nDate: Wednesday\, April 11\, 2018 \nTime: Social Networking and Dinner: 6:00 p.m.\nSpeaker: 6:30 p.m. (PLEASE NOTE EARLIER TIME – SPEAKER WILL BEGIN PROMPTLY AT 6:30) \nLocation: Irell & Manella LLP\n1800 Avenue of the Stars\, Suite 900\nLos Angeles\, CA 90067-4276 \nPay to park at the firm or find cheaper parking at Westfield Century City ($1/hour\, up to 3 hours) and use the pedestrian bridge to cross to the firm. \n\n\n\nFood from Clementine \nAssorted Sandwiches and Salad\nCookies and Brownies\nDrinks\n\n\n\nCost:  $25.00  \nR.S.V.P. and purchase your ticket through Eventbee by Friday\, April 6 \nhttps://scallprograms.eventbee.com/event?eid=125669611
URL:https://scallnet.org/event/2018-scall-spring-meeting/
LOCATION:Irell & Manella LLP\, 1800 Avenue of the Stars\, Suite 900\, Los Angeles\, CA\, 90067-4276\, United States
CATEGORIES:Meeting
END:VEVENT
BEGIN:VEVENT
DTSTART;TZID=UTC:20180323T090000
DTEND;TZID=UTC:20180324T140000
DTSTAMP:20260424T170437
CREATED:20180117T065242Z
LAST-MODIFIED:20180117T065337Z
UID:1606-1521795600-1521900000@scallnet.org
SUMMARY:SCALL Institute 2018
DESCRIPTION:The 46th Annual SCALL Institute will take place March 23-24\, 2018 at the historic Mission Inn in Riverside.\nThe topic is Employment Law.  \nFor more information\, please visit https://scallnet.org/scall-institute/
URL:https://scallnet.org/event/scallinstitute2018/
LOCATION:Mission Inn\, Riverside\, 3649 Mission Inn Avenue\, Riverside\, CA\, 92501\, United States
CATEGORIES:Institute
ATTACH;FMTTYPE=image/png:https://scallnet.org/wp-content/uploads/2018/01/scall-institute-logo-2018.png
END:VEVENT
BEGIN:VEVENT
DTSTART;TZID=UTC:20180109T180000
DTEND;TZID=UTC:20180109T200000
DTSTAMP:20260424T170437
CREATED:20171130T081021Z
LAST-MODIFIED:20171208T045001Z
UID:1476-1515520800-1515528000@scallnet.org
SUMMARY:SCALL Holiday Party
DESCRIPTION:The 2017/18 SCALL Holiday Party will take place at the Karl Strauss Brewing Company.\n \nDate: Tuesday\, January 9\, 2018\nTime: 6:00 p.m. – 8:00 p.m. \nKarl Strauss Brewing Company\nDowntown Los Angeles\n600 Wilshire Blvd\, Suite 100\nLos Angeles\, CA 90017\nhttps://www.karlstrauss.com/visit/downtown-los-angeles/   \nA short walk from the Pershing Square and Metro 7th Street stops! \nValidated parking available in the building. Enter on Wilshire just west of Grand. \nCost: $29.00 \nMixed Greens Salad\nChoice of: Ginger Crusted Salmon\, Chicken Quinoa Rice Bowl\, Spicy Tofu Curry OR Flat Iron Steak\nCheesecake\nSoft drinks\, coffee or tea \nNo Host Bar: Beer and wine will be available for purchase separately \nR.S.V.P. and purchase your ticket through Eventbee by Thursday\, January 4 \nhttps://www.eventbee.com/v/scallprograms/event?eid=151264462#/tickets  \nAttendees must register and pay online by the deadline. We are streamlining administration of RSVPs and food expenses at SCALL Program Committee events. We no longer accept onsite payments. \nThank you to CEB for its generous sponsorship! \nQuestions? Contact the Programs Committee: \nElyse Meyers: meyers@law.ucla.edu\, Sarah Joshi: Sarah.Joshi@ceb.ucla.edu or Alina Kelly: aak@msk.com. \n 
URL:https://scallnet.org/event/scall-holiday-party-2/
LOCATION:Karl Strauss Brewing Company\, 600 Wilshire Blvd\, Suite 100\, Los Angeles\, CA\, 90017\, United States
CATEGORIES:Holiday Party
END:VEVENT
BEGIN:VEVENT
DTSTART;TZID=UTC:20171101T180000
DTEND;TZID=UTC:20171101T200000
DTSTAMP:20260424T170437
CREATED:20171011T042436Z
LAST-MODIFIED:20171011T042829Z
UID:1434-1509559200-1509566400@scallnet.org
SUMMARY:SCALL Fall Meeting 2017
DESCRIPTION:Inspired by the AALL White Paper “Defining ROI: Law Library Best Practices\,” SCALL’s Fall Meeting 2017 will present a panel of respected law library directors to discuss return on investment (ROI) and what it means in various law library environments. Our panelists will share their views on measuring and demonstrating the value that their libraries provide\, including their challenges and successes.  \nOur panelists are: Pauline Aranas\, USC; Martin Korn\, Sheppard Mullin; and Sandi Levin\, LA Law Library. \nDate:             Wednesday\, November 1\, 2017 \nTime:             6:00 p.m.\n \nLocation:      Asa V. Call Law Library\, USC Gould School of Law\n699 Exposition Blvd.\, Los Angeles\, CA 90089\nThe law library entrance is on the second floor of the law school. \nSee USC walking map  for the location of the law school\, metro\, and parking. \nParking is available at the McCarthy Parking Structure for $12. Expo Line drops off right behind the law school \nCost:              $25.00  \nDeadline:     RSVP and purchase your ticket through Eventbee by Friday\, October 27 \nAttendees must register and pay online by the deadline. We are streamlining administration of RSVPs and food expenses at SCALL Program Committee events. We no longer accept onsite payments.
URL:https://scallnet.org/event/scall-fall-meeting-2017/
LOCATION:Asa V. Call Law Library\, USC Gould School of Law\, 699 Exposition Blvd.\, Los Angeles\, 90089\, United States
CATEGORIES:Meeting
END:VEVENT
BEGIN:VEVENT
DTSTART;TZID=UTC:20170621T180000
DTEND;TZID=UTC:20170621T200000
DTSTAMP:20260424T170437
CREATED:20170519T080046Z
LAST-MODIFIED:20170519T080550Z
UID:1318-1498068000-1498075200@scallnet.org
SUMMARY:SCALL Business Meeting 2017
DESCRIPTION:Date:             Wednesday\, June 21\, 2017 \nTime:             6:00 p.m.\n \nLocation:      Richard H. Chambers United States Court of Appeals Building\n125 South Grand Avenue\, Pasadena\, CA 91105 \nFor information and directions: http://www.ca9.uscourts.gov/information/locations.php \nFREE parking lot on Grand between Green and Del Rosa\, across from the courthouse. \nDel Mar station on the Metro Gold Line is approximately 2 miles away. \nCost:              $25.00  \nDeadline:     RSVP and purchase your ticket through Eventbee by Friday\, June 16:  \nhttp://www.eventbee.com/event?eid=125450613 \nWe are streamlining administration of RSVPs and food expenses at SCALL Program Committee events. We will no longer accept onsite payments. Going forward\, attendees must register AND pay online by the deadline without exception. Thank you for your understanding.  \n\n\n\nDinner  served from: \nLupita’s Comida Mexicana
URL:https://scallnet.org/event/scall-business-meeting-2017/
LOCATION:Richard H. Chambers United States Court of Appeals Building\, 125 South Grand Avenue\, Pasadena\, 91105\, United States
END:VEVENT
BEGIN:VEVENT
DTSTART;TZID=UTC:20170413T180000
DTEND;TZID=UTC:20170413T200000
DTSTAMP:20260424T170437
CREATED:20170221T052117Z
LAST-MODIFIED:20170302T073228Z
UID:1237-1492106400-1492113600@scallnet.org
SUMMARY:2017 SCALL Spring Meeting
DESCRIPTION:Jean P. O’Grady is currently Sr. Director of Information\, Research & Knowledge at DLA Piper US\, LLP. Jean also serves as Co-Chair of the ABA’s Law Practice Management Knowledge Strategy Committee and is the AALL Executive Board Member Elect\, July 2017-2020. She has over 30 years of experience developing strategic information initiatives for large law firms. She is a frequent author and speaker on the transformation of libraries and information centers\, digital contract licensing\, knowledge management\, and the legal publishing industry. In 2011 she launched the “Dewey B Strategic” blog\, which focuses on promoting awareness of the strategic importance of librarians\, libraries and knowledge managers to the organizations they support. \nDate:           \nThursday\, April 13\, 2017 \nTime:         \nSocial Networking: 6:00 p.m.\nDinner: 6:30 p.m.\nSpeaker: 7:00 p.m. \nLocation:     \nMcDermott Will & Emery (check in at security desk in lobby)\n2049 Century Park East\, Los Angeles\, CA 90067-3218\nPay to park at the firm or find cheaper parking at Westfield Century City ($1/hour\, up to 3 hours). \nTo RSVP: Email this form to Elyse Meyers \nMail your check or bring it to the meeting. \nChecks payable to SCALL. \nIf mailing your check\, send to: \nElyse Meyers\nUCLA Law Library\n385 Charles E. Young Drive East\nLos Angeles\, CA 90095-1458 \nFood from Clementine \nAssorted Sandwiches and Salad\nCookies and Brownies\nDrinks \nCost:  $25.00  /  Students  $12.00
URL:https://scallnet.org/event/2017-scall-spring-meeting/
LOCATION:McDermott Will & Emery\, 2049 Century Park East\, Los Angeles\, CA\, 90067\, United States
CATEGORIES:Meeting
ATTACH;FMTTYPE=image/jpeg:https://scallnet.org/wp-content/uploads/2017/02/Jean-OGrady-featuredimage-1.jpg
END:VEVENT
BEGIN:VEVENT
DTSTART;TZID=Asia/Krasnoyarsk:20170303T120000
DTEND;TZID=Asia/Krasnoyarsk:20170304T150000
DTSTAMP:20260424T170437
CREATED:20160908T052920Z
LAST-MODIFIED:20161203T051841Z
UID:903-1488542400-1488639600@scallnet.org
SUMMARY:2017 SCALL Institute
DESCRIPTION:The 2017 SCALL Institute will be held on March 3-4\, 2017 at the beautiful and historic Horton Grand Hotel in San Diego.
URL:https://scallnet.org/event/2017-scall-institute/
LOCATION:Horton Grand Hotel\, 311 Island Ave\, San Diego\, CA\, 92101\, United States
ATTACH;FMTTYPE=image/jpeg:https://scallnet.org/wp-content/uploads/2016/11/ConLaw2-e1479774458805.jpg
END:VEVENT
BEGIN:VEVENT
DTSTART;TZID=UTC:20170112T180000
DTEND;TZID=UTC:20170112T200000
DTSTAMP:20260424T170437
CREATED:20161203T051110Z
LAST-MODIFIED:20161203T062555Z
UID:1086-1484244000-1484251200@scallnet.org
SUMMARY:SCALL Holiday Party
DESCRIPTION:Karl Strauss Brewing Company\nDowntown Los Angeles\n600 Wilshire Blvd\, Suite 100\nLos Angeles\, CA 90017\nhttps://www.karlstrauss.com/visit/downtown-los-angeles/   \nA short walk from the Pershing Square and Metro 7th Street stops!\nValidated parking available in the building. Enter on Wilshire just west of Grand.\n \nCost: $28.00 / $20.00 students \n\nMixed Greens Salad\nChoice of: Ginger Crusted Salmon\, Brick Chicken\, Spicy Tofu Curry\, OR Flat Iron Steak\nCheesecake\nSoft drinks\, coffee or tea\n\nNo Host Bar: Beer and wine will be available for purchase separately \nR.S.V.P. no later than Friday\, January 6 – SCALL Holiday Party RSVP Form \nComplete and email the attached form to Elyse Meyers:  meyers@law.ucla.edu  \nMail your check or bring it to the meeting. Checks payable to SCALL. \nThank you to CEB for its generous sponsorship! \nDoor prize provided by Bloomberg BNA and giveaways provided by Westlaw and Lexis. \nQuestions? Contact the Programs Committee: \nElyse Meyers: meyers@law.ucla.edu\, Sarah Joshi: Sarah.Joshi@ceb.ucla.edu\, or Margaret Hall: mhall@swlaw.edu.
URL:https://scallnet.org/event/scall-holiday-party/
LOCATION:Karl Strauss Brewing Company\, 600 Wilshire Blvd\, Suite 100\, Los Angeles\, CA\, 90017\, United States
END:VEVENT
BEGIN:VEVENT
DTSTART;TZID=UTC:20161019T180000
DTEND;TZID=UTC:20161019T200000
DTSTAMP:20260424T170437
CREATED:20160910T071957Z
LAST-MODIFIED:20160916T045056Z
UID:915-1476900000-1476907200@scallnet.org
SUMMARY:SCALL Fall Meeting
DESCRIPTION:Back by popular demand\, Professor Jessica Levinson from Loyola Law School\, an expert in election law and governance\, will again join us to discuss election-related topics during our Fall Meeting. Professor Levinson currently serves as the Vice President of the Los Angeles Ethics Commission. She regularly appears on television and radio\, including programs aired on NBC\, CBS\, ABC\, Fox News\, Fox Business Channel\, NPR\, KNX and KPFK. She is also frequently quoted in the print media\, including The New York Times\, Wall Street Journal\, Associated Press\, Los Angeles Times\, Sacramento Bee\, San Francisco Chronicle and Reuters. \nSocial Networking: 6:00 p.m.\, Dinner: 6:30 p.m.\, Speaker: 7:00 p.m.\n Location: Walter J. Lack Reading Room\, Rains Library \nGarage parking available for $9. \nRSVP by Friday\, October 14. Complete and send the RSVP form to Elyse Meyers (meyers@law.ucla.edu). Bring your check to the meeting or mail it to: \nElyse Meyers\nUCLA Law Library\n385 Charles E. Young Drive East\n1106 Law Building\nLos Angeles\, CA 90095-1458\n \nQuestions? Contact the Programs Committee:  \nElyse Meyers: meyers@law.ucla.edu\nSarah Joshi: Sarah.Joshi@ceb.ucla.edu\nMargaret Hall: mhall@swlaw.edu
URL:https://scallnet.org/event/scall-fall-meeting/
LOCATION:Loyola Law School\, 919 Albany Street\, Los Angeles\, CA\, 91406\, United States
END:VEVENT
BEGIN:VEVENT
DTSTART;TZID=UTC:20160716T190000
DTEND;TZID=UTC:20160716T203000
DTSTAMP:20260424T170437
CREATED:20160712T063409Z
LAST-MODIFIED:20160712T063409Z
UID:876-1468695600-1468701000@scallnet.org
SUMMARY:Pacific Chapters Joint Reception (LLOPS\, NOCALL\, SANDALL\, SCALL and WestPac)
DESCRIPTION:
URL:https://scallnet.org/event/pacific-chapters-joint-reception-llops-nocall-sandall-scall-westpac/
LOCATION:Portillo’s\, 100 W. Ontario St. \, Chicago\, IL\, 60654\, United States
END:VEVENT
BEGIN:VEVENT
DTSTART;TZID=UTC:20160621T180000
DTEND;TZID=UTC:20160621T200000
DTSTAMP:20260424T170437
CREATED:20160511T061313Z
LAST-MODIFIED:20160517T072549Z
UID:792-1466532000-1466539200@scallnet.org
SUMMARY:SCALL Business Meeting
DESCRIPTION:SCALL 2016 BUSINESS MEETING \nFor information and directions: http://www.ca9.uscourts.gov/information/locations.php \nFREE parking in the lot on Grand between Green and Del Rosa\, across from the court. The court is approximately 2 miles from the Del Mar station of the Metro Gold Line. \nCost:  $25.00 per person  /  Students  $15.00 \nRSVP by Friday\, June 17th.  Complete the SCALL 2016 Business Meeting RSVP form and return to Erik Adams via email to eadams@sheppardmullin.com\, or via regular mail to Erik Adams / Sheppard Mullin / 333 S. Hope St. / 43rd Floor / Los Angeles\, CA 90071. Checks may be sent by mail or delivered at the door. \nQuestions? Contact the Programs Committee: \nElyse Meyers: meyers@law.ucla.edu\, Sarah Joshi: Sarah.Joshi@ceb.ucla.edu\, \nor Erik Adams:  eadams@sheppardmullin.com. \n 
URL:https://scallnet.org/event/scall-business-meeting/
LOCATION:Richard H. Chambers United States Court of Appeals Building\, 125 South Grand Avenue\, Pasadena\, 91105\, United States
CATEGORIES:Meeting
END:VEVENT
END:VCALENDAR